BEGIN:VCALENDAR
VERSION:2.0
PRODID:-//hacksw/handcal//NONSGML v1.0//EN
BEGIN:VEVENT
DTSTAMP:20260502T233000Z
DTSTART:20260502T233000Z
DTEND:20260503T004500Z

SUMMARY:The Music of Star Wars 
DESCRIPTION:Stefan Sanders, conductorThe Millennium Falcon has entered hyperspace and is coming to Hampton Roads from a galaxy far, far away. Experience the power and "force" of John Williams’ iconic score from the Star Wars universe with the Virginia Symphony Orchestra! Valet Parking is available for purchase.
END:VEVENT
END:VCALENDAR