BEGIN:VCALENDAR
VERSION:2.0
PRODID:-//hacksw/handcal//NONSGML v1.0//EN
BEGIN:VEVENT
DTSTAMP:20260503T190000Z
DTSTART:20260503T190000Z
DTEND:20260503T191500Z

SUMMARY:The Doo Wop Project
DESCRIPTION:               A Brand-New Show From America’s Premier Doo Wop Group!The dynamic Broadway stars of The Doo Wop Project are on a mission to put Doo Wop on everyone’s playlist! With their smokin’ hot band, they capture and deliver the classic sounds of the guys who, back in the day, harmonized with each other on stoops, in the subway, and on street corners. They have also created a unique and fun way to “Doowop-ify” today&#39;s biggest hits – reimagining them as though they had been written during the Doo Wop era!Once you experience The Doo Wop Project live on stage, you’ll see why everyone calls them America&#39;s premier Doo Wop group. Their brand-new show, “Echoes of the Street,” keeps the classic sounds of Doo Wop alive for audiences of all ages.You’ll hear Doo Wop classics like the Del Vikings’ “Whispering Bells,” The Tymes’ “So Much in Love,” The Marcels’ “Blue Moon,” The Four Seasons’ “Sherry,” and Motown’s “My Girl.” And you’ll fall in love with The Doo Wop Project’s Doowop-ified versions of contemporary songs by artists like Taylor Swift, Pharrell Williams, Daft Punk, and Chris Stapleton. This show celebrates a music genre that has never lost its cool … while making it cool for generations to come. #SAVEDOOWOPValet Parking is available for purchase.
END:VEVENT
END:VCALENDAR