BEGIN:VCALENDAR
VERSION:2.0
PRODID:-//hacksw/handcal//NONSGML v1.0//EN
BEGIN:VEVENT
DTSTAMP:20260314T190000Z
DTSTART:20260314T190000Z
DTEND:20260314T191500Z

SUMMARY:Finding America in Dvořák's New World
DESCRIPTION:Eric Jacobsen and Helen Martell, conductorsVirginia Symphony OrchestraBay Youth Symphony OrchestraAntonín Dvořák: Selections from Symphony No. 9, “From the New World”Discover the amazing story behind one of America’s most famous symphonies, written by a Czech composer! Antonín Dvořák was inspired by African American spirituals, Native American music, and Longfellow’s poem The Song of Hiawatha. Find out how he combined these influences with the musical traditions of his homeland to create this beloved masterpiece.Valet Parking is available for purchase.
END:VEVENT
END:VCALENDAR