BEGIN:VCALENDAR
VERSION:2.0
PRODID:-//hacksw/handcal//NONSGML v1.0//EN
BEGIN:VEVENT
DTSTAMP:20260502T200000Z
DTSTART:20260502T200000Z
DTEND:20260502T201500Z

SUMMARY:Don't Let the Pigeon Drive the Bus! The Musical
DESCRIPTION:It&#39;s not easy being the Pigeon - you never get to do ANYTHING. But when the bus driver has a crisis that threatens to make her passengers (gasp!) late, maybe that wily bird CAN do something. Featuring an innovative mix of songs and feathers, Don&#39;t Let the Pigeon Drive the Bus is sure to get everyone’s wings flapping!Script written by Mo Willems, the creator of the #1 New York Times best-selling, Caldecott Honor award-winning "Pigeon" picture books, and featuring music by Deborah Wicks La Puma.
END:VEVENT
END:VCALENDAR