BEGIN:VCALENDAR
VERSION:2.0
PRODID:-//hacksw/handcal//NONSGML v1.0//EN
BEGIN:VEVENT
DTSTAMP:20261017T233000Z
DTSTART:20261017T233000Z
DTEND:20261017T234500Z

SUMMARY:Bruce Hornsby & The Noisemakers
DESCRIPTION:           Dynamic, spontaneous, and deeply musical … “that’s just the way it is.”Hampton Roads (Williamsburg) native Bruce Hornsby first captivated music lovers worldwide in 1986 with his iconic hit “The Way It Is.” Renowned for his masterful songwriting, virtuosic piano work, and fearless exploration across rock, folk, jazz, and classical traditions, Hornsby has built a career defined by evolution and collaboration. He has worked with an extraordinary range of artists, including the Grateful Dead, Bonnie Raitt, Don Henley, and Ricky Skaggs.In concert, Hornsby’s songs stretch and transform in real time, shaped by bold improvisation, shifting rhythms, and intuitive interplay with his band, The Noisemakers, who build a richly layered sound around his piano as the anchor. This performance will span highlights from throughout his storied career and feature new music from his forthcoming album Indigo Park, arriving April 3, 2026. Don’t miss this electrifying evening of inspired musicianship, inventive improvisation, and hometown pride.        This performance is co-presented by the Virginia Arts Festival and CNU&#39;s                                                     Ferguson Center for the Arts. 
END:VEVENT
END:VCALENDAR